BEGIN:VCALENDAR
VERSION:2.0
PRODID:-//CURE GABA-A - ECPv6.15.20//NONSGML v1.0//EN
CALSCALE:GREGORIAN
METHOD:PUBLISH
X-WR-CALNAME:CURE GABA-A
X-ORIGINAL-URL:https://curegabaa.org
X-WR-CALDESC:Events for CURE GABA-A
REFRESH-INTERVAL;VALUE=DURATION:PT1H
X-Robots-Tag:noindex
X-PUBLISHED-TTL:PT1H
BEGIN:VTIMEZONE
TZID:America/Los_Angeles
BEGIN:DAYLIGHT
TZOFFSETFROM:-0800
TZOFFSETTO:-0700
TZNAME:PDT
DTSTART:20230312T100000
END:DAYLIGHT
BEGIN:STANDARD
TZOFFSETFROM:-0700
TZOFFSETTO:-0800
TZNAME:PST
DTSTART:20231105T090000
END:STANDARD
BEGIN:DAYLIGHT
TZOFFSETFROM:-0800
TZOFFSETTO:-0700
TZNAME:PDT
DTSTART:20240310T100000
END:DAYLIGHT
BEGIN:STANDARD
TZOFFSETFROM:-0700
TZOFFSETTO:-0800
TZNAME:PST
DTSTART:20241103T090000
END:STANDARD
BEGIN:DAYLIGHT
TZOFFSETFROM:-0800
TZOFFSETTO:-0700
TZNAME:PDT
DTSTART:20250309T100000
END:DAYLIGHT
BEGIN:STANDARD
TZOFFSETFROM:-0700
TZOFFSETTO:-0800
TZNAME:PST
DTSTART:20251102T090000
END:STANDARD
END:VTIMEZONE
BEGIN:VEVENT
DTSTART;TZID=America/Los_Angeles:20240209T100000
DTEND;TZID=America/Los_Angeles:20240209T110000
DTSTAMP:20260419T174344
CREATED:20240127T054435Z
LAST-MODIFIED:20240208T192002Z
UID:2076-1707472800-1707476400@curegabaa.org
SUMMARY:Cure GABA-A | Recommended Physician Meet and Greet with Dr. Andres Jimenez
DESCRIPTION:Cure GABA-A | Recommended Physician Meet and Greet with Dr. Andres Jimenez Gomez\n\n\nJoin us for an educational meet and greet session with Dr. Andres Jimenez Gomez\, MD\, a Colombian-born physician with triple board certification in Pediatrics (Cincinnati Children’s Hospital)\, Pediatric Neurology\, and Neurodevelopmental Disabilities (Texas Children’s Hospital). \nDr. Jimenez Gomez is currently the director of the Neurodevelopmental Disabilities Program at Joe DiMaggio Children’s Hospital in South Florida. He is deeply invested in the care of children with neurogenetic and neurodevelopmental conditions\, particularly Developmental and Epileptic Encephalopathies. His established clinical care and research trajectory focus on expanding awareness\, standardizing diagnosis and care\, and increasing education and awareness in the medical community about such conditions\, with a special emphasis on Latin America and the predominantly Spanish-speaking population in the US. \nOur NDD Program: The Neurodevelopmental Disabilities Program at Joe DiMaggio Children’s Hospital\, directed by Dr. Jimenez Gomez\, provides comprehensive\, state-of-the-art\, innovative\, and humanistic care for children and young adults with neurodevelopmental disorders. The program offers multidisciplinary and comprehensive evaluations\, incorporating elements of evidence-based care and complementary\, holistic\, patient- and family-centered practices unique to the region. Comprehensive developmental evaluations for autism\, a multidisciplinary complex neurodevelopment/complex autism clinic\, a multidisciplinary neuro-behavioral clinic\, and a Developmental and Epileptic Encephalopathies (Genetic Epilepsies) clinic are among the services provided. The program actively participates in national clinical trials\, offers Autism support groups\, maintains a resource database\, and provides an in-house network of therapists. \nOur DEE Program: The Developmental and Epileptic Encephalopathies Clinic at Joe DiMaggio Children’s Hospital\, under the leadership of Dr. Jimenez Gomez\, provides comprehensive and multidisciplinary care for children and young adults with difficult-to-control epilepsy and associated developmental impairments such as developmental delay and autism. Full evaluations are conducted by board-certified pediatric epileptologists and a neurodevelopmental neurologist\, alongside a pediatric geneticist\, a neuropsychologist\, and other advanced practice providers. The clinic offers services in epilepsy care as well as development and behavior\, support in genetic consultation for resolution/analysis of Variants of Uncertain Significance (VUS)\, and referral when necessary for consultation for advanced epilepsy care\, including ketogenic diet clinic and possible surgical interventions. The program also offers participation in clinical trials in the field. \nJoin Cure GABA-A and Dr. Andres Jimenez Gomez on 2/19/2024 10:00 AM PST for an educational and insightful session. For more details\, contact us on our socials or email: info@curegabaa.org \nIf you are unable to attend in person\, rest assured – the session will be recorded and made available on the Cure GABA-A YouTube channel for your convenience. \n \nJoin us in our shared mission to enhance the lives of patients with GABA-A Variants and contribute to a brighter future.
URL:https://curegabaa.org/event/cure-gaba-a-recommended-physician-meet-and-greet-with-dr-andres-jimenez/
ATTACH;FMTTYPE=image/jpeg:https://curegabaa.org/wp-content/uploads/2024/01/7b863bc9422018ccef77395615212e9a-1.jpg
ORGANIZER;CN="CURE GABA-A":MAILTO:info@curegabaa.org
END:VEVENT
END:VCALENDAR