BEGIN:VCALENDAR
VERSION:2.0
PRODID:-//CURE GABA-A - ECPv6.15.20//NONSGML v1.0//EN
CALSCALE:GREGORIAN
METHOD:PUBLISH
X-ORIGINAL-URL:https://curegabaa.org
X-WR-CALDESC:Events for CURE GABA-A
REFRESH-INTERVAL;VALUE=DURATION:PT1H
X-Robots-Tag:noindex
X-PUBLISHED-TTL:PT1H
BEGIN:VTIMEZONE
TZID:America/Los_Angeles
BEGIN:DAYLIGHT
TZOFFSETFROM:-0800
TZOFFSETTO:-0700
TZNAME:PDT
DTSTART:20230312T100000
END:DAYLIGHT
BEGIN:STANDARD
TZOFFSETFROM:-0700
TZOFFSETTO:-0800
TZNAME:PST
DTSTART:20231105T090000
END:STANDARD
BEGIN:DAYLIGHT
TZOFFSETFROM:-0800
TZOFFSETTO:-0700
TZNAME:PDT
DTSTART:20240310T100000
END:DAYLIGHT
BEGIN:STANDARD
TZOFFSETFROM:-0700
TZOFFSETTO:-0800
TZNAME:PST
DTSTART:20241103T090000
END:STANDARD
BEGIN:DAYLIGHT
TZOFFSETFROM:-0800
TZOFFSETTO:-0700
TZNAME:PDT
DTSTART:20250309T100000
END:DAYLIGHT
BEGIN:STANDARD
TZOFFSETFROM:-0700
TZOFFSETTO:-0800
TZNAME:PST
DTSTART:20251102T090000
END:STANDARD
END:VTIMEZONE
BEGIN:VEVENT
DTSTART;TZID=America/Los_Angeles:20240215T084500
DTEND;TZID=America/Los_Angeles:20240215T094500
DTSTAMP:20260419T174200
CREATED:20240127T054445Z
LAST-MODIFIED:20240214T204442Z
UID:2084-1707986700-1707990300@curegabaa.org
SUMMARY:Cure GABA-A | Recommended Physician Meet and Greet | Dr. Pamela Pojomovsky
DESCRIPTION:Dr. Pamela Pojomovsky McDonnell\, MD\, pediatric neurologist\, Cure GABA-A’s Recommended Physicians at Children’s Hospital of Philadelphia.\n\n\nJoin us for an educational session with Dr. Pamela Pojomovsky McDonnell\, MD\, pediatric neurologist\, Cure GABA-A’s Recommended Physicians at Children’s Hospital of Philadelphia. \nPamela Pojomovsky McDonnell\, MD\, is a pediatric neurologist in the Division of Neurology at Children’s Hospital of Philadelphia (CHOP). She specializes in helping children with epilepsy. Dr. McDonnell had a personal reason for choosing her specialty. \n“My sister had epilepsy when she was a child\, which made me want to help children and families with neurologic conditions\,” she says. “I later developed an interest in science and particularly in how the brain works.” She notes that although epilepsy affects just 1% of the population\, it’s morbidity is quite high. Fortunately\, many tools are available to help control the disorder. A native of Argentina\, Dr. McDonnell enjoys working with Spanish speakers who may otherwise have trouble accessing appropriate care due to language barriers. Along with her clinical work\, she is an Assistant Professor of Neurology at the Perelman School of Medicine at the University of Pennsylvania. \nDr. McDonnell is enthusiastic about new developments in genetics that may one day allow doctors to predict the course of epilepsy and target treatments accordingly. She is a member of the Epilepsy Neurogenetics Initiative (ENGIN) at Children’s Hospital of Philadelphia (CHOP)\, where she evalutes all children with neurodevelopmental disorders with or without epilepsy but she has a specific focus in children with pathogenic variants in the SLC6A1 gene and works closely with the SLC6A1 Connect group. \nWhen caring for children\, Dr. McDonnell is reminded of her sister and the comfort of knowing medical professionals were helping to manage her epilepsy. “I am always inspired by the doctors that helped our family\,” she says. “And as your doctor\, I care about your child and your family as if they were my own. I hope that is an experience that can be taken from every visit at CHOP.” \nJoin Cure GABA-A and Dr. Pamela Pojomovsky McDonnell on 2/15 at 8:45-9:45 PST for an educational and insightful session. \nIf you are unable to attend in person\, rest assured – the session will be recorded and made available on the Cure GABA-A YouTube channel for your convenience. \n \nJoin us in our shared mission to enhance the lives of patients with GABA-A Variants and contribute to a brighter future.
URL:https://curegabaa.org/event/cure-gaba-a-recommended-physician-meet-and-greet-dr-pamela-pojomovsky/
ATTACH;FMTTYPE=image/jpeg:https://curegabaa.org/wp-content/uploads/2024/01/053e6d8d8e0f34e367bb3ad5400f5ef7-1.jpg
ORGANIZER;CN="CURE GABA-A":MAILTO:info@curegabaa.org
END:VEVENT
BEGIN:VEVENT
DTSTART;TZID=America/Los_Angeles:20240215T084500
DTEND;TZID=America/Los_Angeles:20240215T094500
DTSTAMP:20260419T174200
CREATED:20240127T054449Z
LAST-MODIFIED:20240214T204442Z
UID:2088-1707986700-1707990300@curegabaa.org
SUMMARY:Cure GABA-A | Basic Genetic Concepts | Laina Lusk
DESCRIPTION:Join us for an enlightening session with Dr. Laina Lusk\, a dedicated genetic counselor in the division of neurology at CHOP\n\n\nFamily Presentation with Laina Lusk \nCure GABA-A | Webinar | Insights from a Genetic Counselor: Childhood Epilepsy and Neurodevelopmental Disorders \nJoin us for an enlightening session with Laina Lusk\, a dedicated genetic counselor in the division of neurology at the Children’s Hospital of Philadelphia (CHOP). \nLaina Lusk’s research interest lies in unraveling the genetic mechanisms and clinical phenotypes associated with childhood epilepsy and related neurodevelopmental disorders. Armed with a BS in neuroscience from Bucknell University and an MMSc in human genetics and genetic counseling from Emory University\, she brings a wealth of knowledge to her role. \nWith prior clinical experience as a cancer genetic counselor and a background in neurodevelopmental disorders research\, Laina plays a crucial role in the Helbig Lab. As a clinical liaison\, she actively contributes to phenotyping projects\, furthering our understanding of these complex conditions. \nJoin Cure GABA-A and Laina on 2/15 at 8:45am PST for an insightful exploration of childhood epilepsy and neurodevelopmental disorders from a genetic counselor’s perspective. For more details\, contact us on our socials or email: info@curegabaa.org \nIf you are unable to attend in person\, rest assured – the session will be recorded and made available on the Cure GABA-A YouTube channel for your convenience. \n \nJoin us in our shared mission to enhance the lives of patients with GABA-A Variants and contribute to a brighter future.
URL:https://curegabaa.org/event/cure-gaba-a-basic-genetic-concepts-dr-laina-lusk/
ATTACH;FMTTYPE=image/jpeg:https://curegabaa.org/wp-content/uploads/2024/01/912a8599b961d2012f0536301847b65a-1.jpg
ORGANIZER;CN="CURE GABA-A":MAILTO:info@curegabaa.org
END:VEVENT
END:VCALENDAR