BEGIN:VCALENDAR
VERSION:2.0
PRODID:-//CURE GABA-A - ECPv6.15.20//NONSGML v1.0//EN
CALSCALE:GREGORIAN
METHOD:PUBLISH
X-WR-CALNAME:CURE GABA-A
X-ORIGINAL-URL:https://curegabaa.org
X-WR-CALDESC:Events for CURE GABA-A
REFRESH-INTERVAL;VALUE=DURATION:PT1H
X-Robots-Tag:noindex
X-PUBLISHED-TTL:PT1H
BEGIN:VTIMEZONE
TZID:America/Los_Angeles
BEGIN:DAYLIGHT
TZOFFSETFROM:-0800
TZOFFSETTO:-0700
TZNAME:PDT
DTSTART:20230312T100000
END:DAYLIGHT
BEGIN:STANDARD
TZOFFSETFROM:-0700
TZOFFSETTO:-0800
TZNAME:PST
DTSTART:20231105T090000
END:STANDARD
BEGIN:DAYLIGHT
TZOFFSETFROM:-0800
TZOFFSETTO:-0700
TZNAME:PDT
DTSTART:20240310T100000
END:DAYLIGHT
BEGIN:STANDARD
TZOFFSETFROM:-0700
TZOFFSETTO:-0800
TZNAME:PST
DTSTART:20241103T090000
END:STANDARD
BEGIN:DAYLIGHT
TZOFFSETFROM:-0800
TZOFFSETTO:-0700
TZNAME:PDT
DTSTART:20250309T100000
END:DAYLIGHT
BEGIN:STANDARD
TZOFFSETFROM:-0700
TZOFFSETTO:-0800
TZNAME:PST
DTSTART:20251102T090000
END:STANDARD
END:VTIMEZONE
BEGIN:VEVENT
DTSTART;TZID=America/Los_Angeles:20240220T110000
DTEND;TZID=America/Los_Angeles:20240220T120000
DTSTAMP:20260419T172630
CREATED:20240127T054455Z
LAST-MODIFIED:20240220T033004Z
UID:2092-1708426800-1708430400@curegabaa.org
SUMMARY:Cure GABA-A | Phenotypic Manifestations Observed in Individuals with GABAAR
DESCRIPTION:Gain insights and understanding into the impact of these variants on distinct traits.\n\n\nCure GABA-A | Educational Session with Q&A | Phenotypic manifestations observed in individuals with GABAAR Variants \nJoin us for an educational session with Dr. Sebastian Ortiz. \nDr. Sebastian Ortiz is presently engaged in a comprehensive examination of the phenotypic manifestations observed in individuals possessing GABAAR variants. His aim is to enhance comprehension of the intricate networks and systems implicated in the pathophysiology of these disorders. Additionally\, he endeavors to equip clinicians with tools facilitating the early identification of these disorders. \nDr. Sebastian Ortiz is actively engaged in international epilepsy communities\, serving as the Chair of the Young Epilepsy Section from International League Against Epilepsy (ILAE) from September 2023 to September 2025. His contributions to various international congresses\, including the International Epilepsy Congress and Latin American Epilepsy Congress\, reflect his dedication to advancing knowledge in his field. \nA multilingual professional\, Sebastian is fluent in Portuguese\, Spanish\, English\, and has a basic proficiency in French and Danish. He is a member of prestigious associations such as the Danish Epilepsy Society\, International League Against Epilepsy (ILAE)\, American Academy of Clinical Neurophysiology. \n \nJoin Cure GABA-A and Dr. Sebastian Ortiz on February 20th\, 2024\, at 11:00 AM PST for an educational session. For more details\, contact us on our socials or email: monica@cureGABAa.com. \nCan’t make it in person? Don’t worry – This session will be recorded and uploaded to the Cure GABA-A YouTube channel for your convenience. \n \nJoin us in our collective mission to improve t
URL:https://curegabaa.org/event/cure-gaba-a-phenotypic-manifestations-observed-in-individuals-with-gabaar/
ATTACH;FMTTYPE=image/jpeg:https://curegabaa.org/wp-content/uploads/2024/01/c90168e36844c5133d1ae92f965e573f-1.jpg
ORGANIZER;CN="CURE GABA-A":MAILTO:info@curegabaa.org
END:VEVENT
BEGIN:VEVENT
DTSTART;TZID=America/Los_Angeles:20240220T130000
DTEND;TZID=America/Los_Angeles:20240220T140000
DTSTAMP:20260419T172630
CREATED:20240217T030104Z
LAST-MODIFIED:20240220T033004Z
UID:2555-1708434000-1708437600@curegabaa.org
SUMMARY:Cure GABA-A | Motor Cortex Measures of Cortical Inhibition
DESCRIPTION:Motor Cortex Measures of Cortical Inhibition: What the motor system can tell us about the rest of the brain.\n\n\nCure GABA-A | Educational Session with Q&A | Phenotypic manifestations observed in individuals with GABAAR Variants \nJoin us for an educational session with Dr. Alexander Rotenberg. \nDr. Alexander Rotenberg is a prominent neurologist and epileptologist\, serving as the Director of the Neuromodulation Program within the Department of Neurology. He has received recognition for his work\, including the 2016 Dreifuss-Penry Epilepsy Award from the American Academy of Neurology and presidency of the Greater Boston Epilepsy Society in 2015-2016. \nDr. Rotenberg leads efforts to adapt noninvasive brain stimulation techniques like TMS and DCS for pediatric epilepsy patients\, while also overseeing basic science experiments exploring their translational applications in epilepsy and traumatic brain injury models. His ongoing research includes clinical trials testing the efficacy of brain stimulation in drug-resistant seizures\, studies on human brain plasticity in autism. \nJoin Cure GABA-A and Dr. Alexander Rotenberg on February 20th\, 2024\, at 1:00 PM PST for an educational session. For more details\, contact us on our socials or email: monica@cureGABAa.com. \nCan’t make it in person? Don’t worry – This session will be recorded and uploaded to the Cure GABA-A YouTube channel for your convenience. \n \nJoin Cure GABA-A in this collective mission to improve the lives of patients with GABA-A Variants work toward a brighter future.
URL:https://curegabaa.org/event/cure-gaba-a-motor-cortex-measures-of-cortical-inhibition/
ATTACH;FMTTYPE=image/jpeg:https://curegabaa.org/wp-content/uploads/2024/02/1c0f171241b4551fd532a6ecab5e9280-1.jpg
ORGANIZER;CN="CURE GABA-A":MAILTO:info@curegabaa.org
END:VEVENT
END:VCALENDAR